BEGIN:VCALENDAR
VERSION:2.0
PRODID:-//Heart of Surfing - ECPv6.15.20//NONSGML v1.0//EN
CALSCALE:GREGORIAN
METHOD:PUBLISH
X-ORIGINAL-URL:https://www.heartofsurfing.org
X-WR-CALDESC:Events for Heart of Surfing
REFRESH-INTERVAL;VALUE=DURATION:PT1H
X-Robots-Tag:noindex
X-PUBLISHED-TTL:PT1H
BEGIN:VTIMEZONE
TZID:America/New_York
BEGIN:DAYLIGHT
TZOFFSETFROM:-0500
TZOFFSETTO:-0400
TZNAME:EDT
DTSTART:20250309T070000
END:DAYLIGHT
BEGIN:STANDARD
TZOFFSETFROM:-0400
TZOFFSETTO:-0500
TZNAME:EST
DTSTART:20251102T060000
END:STANDARD
BEGIN:DAYLIGHT
TZOFFSETFROM:-0500
TZOFFSETTO:-0400
TZNAME:EDT
DTSTART:20260308T070000
END:DAYLIGHT
BEGIN:STANDARD
TZOFFSETFROM:-0400
TZOFFSETTO:-0500
TZNAME:EST
DTSTART:20261101T060000
END:STANDARD
BEGIN:DAYLIGHT
TZOFFSETFROM:-0500
TZOFFSETTO:-0400
TZNAME:EDT
DTSTART:20270314T070000
END:DAYLIGHT
BEGIN:STANDARD
TZOFFSETFROM:-0400
TZOFFSETTO:-0500
TZNAME:EST
DTSTART:20271107T060000
END:STANDARD
END:VTIMEZONE
BEGIN:VEVENT
DTSTART;TZID=America/New_York:20260125T140000
DTEND;TZID=America/New_York:20260125T160000
DTSTAMP:20260425T071326
CREATED:20260115T195713Z
LAST-MODIFIED:20260115T195713Z
UID:3800-1769349600-1769356800@www.heartofsurfing.org
SUMMARY:Sensory Friendly Ice Skating
DESCRIPTION:January 25th\nSensory Friendly Ice Skating \n2pm-4pm at Atlantic City Skate Zone \nFREE for families with AUTISM & related developmental disabilities. No pre-registration is required. Just come and  join in the fun. \n  \n \n**Please arrive 15 minutes early to check-in &  get your skates on.
URL:https://www.heartofsurfing.org/events/sensory-friendly-ice-skating-5/
LOCATION:Atlantic City Skate Zone
CATEGORIES:Ice Skating
ATTACH;FMTTYPE=image/webp:https://www.heartofsurfing.org/wp-content/uploads/2023/02/IMG_20230204_095518_128.webp
END:VEVENT
BEGIN:VEVENT
DTSTART;TZID=America/New_York:20260117T143000
DTEND;TZID=America/New_York:20260117T160000
DTSTAMP:20260425T071326
CREATED:20260115T195506Z
LAST-MODIFIED:20260115T195506Z
UID:3797-1768660200-1768665600@www.heartofsurfing.org
SUMMARY:Sensory Friendly Ice Skating
DESCRIPTION:January 17th\nSensory Friendly Ice Skating \n2:30p-4pm at Atlantic City Skate Zone \nFREE for families with AUTISM & related developmental disabilities. No pre-registration is required. Just come and  join in the fun. \n  \n \n**Please arrive 15 minutes early to check-in &  get your skates on.
URL:https://www.heartofsurfing.org/events/sensory-friendly-ice-skating-4/
LOCATION:Atlantic City Skate Zone
CATEGORIES:Ice Skating
ATTACH;FMTTYPE=image/webp:https://www.heartofsurfing.org/wp-content/uploads/2023/02/IMG_20230204_095518_128.webp
END:VEVENT
END:VCALENDAR