BEGIN:VCALENDAR
VERSION:2.0
PRODID:-//Heart of Surfing - ECPv6.15.20//NONSGML v1.0//EN
CALSCALE:GREGORIAN
METHOD:PUBLISH
X-ORIGINAL-URL:https://www.heartofsurfing.org
X-WR-CALDESC:Events for Heart of Surfing
REFRESH-INTERVAL;VALUE=DURATION:PT1H
X-Robots-Tag:noindex
X-PUBLISHED-TTL:PT1H
BEGIN:VTIMEZONE
TZID:America/New_York
BEGIN:DAYLIGHT
TZOFFSETFROM:-0500
TZOFFSETTO:-0400
TZNAME:EDT
DTSTART:20200308T070000
END:DAYLIGHT
BEGIN:STANDARD
TZOFFSETFROM:-0400
TZOFFSETTO:-0500
TZNAME:EST
DTSTART:20201101T060000
END:STANDARD
BEGIN:DAYLIGHT
TZOFFSETFROM:-0500
TZOFFSETTO:-0400
TZNAME:EDT
DTSTART:20210314T070000
END:DAYLIGHT
BEGIN:STANDARD
TZOFFSETFROM:-0400
TZOFFSETTO:-0500
TZNAME:EST
DTSTART:20211107T060000
END:STANDARD
BEGIN:DAYLIGHT
TZOFFSETFROM:-0500
TZOFFSETTO:-0400
TZNAME:EDT
DTSTART:20220313T070000
END:DAYLIGHT
BEGIN:STANDARD
TZOFFSETFROM:-0400
TZOFFSETTO:-0500
TZNAME:EST
DTSTART:20221106T060000
END:STANDARD
BEGIN:DAYLIGHT
TZOFFSETFROM:-0500
TZOFFSETTO:-0400
TZNAME:EDT
DTSTART:20230312T070000
END:DAYLIGHT
BEGIN:STANDARD
TZOFFSETFROM:-0400
TZOFFSETTO:-0500
TZNAME:EST
DTSTART:20231105T060000
END:STANDARD
BEGIN:DAYLIGHT
TZOFFSETFROM:-0500
TZOFFSETTO:-0400
TZNAME:EDT
DTSTART:20240310T070000
END:DAYLIGHT
BEGIN:STANDARD
TZOFFSETFROM:-0400
TZOFFSETTO:-0500
TZNAME:EST
DTSTART:20241103T060000
END:STANDARD
BEGIN:DAYLIGHT
TZOFFSETFROM:-0500
TZOFFSETTO:-0400
TZNAME:EDT
DTSTART:20250309T070000
END:DAYLIGHT
BEGIN:STANDARD
TZOFFSETFROM:-0400
TZOFFSETTO:-0500
TZNAME:EST
DTSTART:20251102T060000
END:STANDARD
END:VTIMEZONE
BEGIN:VEVENT
DTSTART;TZID=America/New_York:20240817T090000
DTEND;TZID=America/New_York:20240817T120000
DTSTAMP:20260424T035743
CREATED:20240508T154817Z
LAST-MODIFIED:20240520T153227Z
UID:1613-1723885200-1723896000@www.heartofsurfing.org
SUMMARY:Heart of Surfing- Surf Day
DESCRIPTION:Saturday\, August 17\n9am to 12pm\nLocation: Ocean City\, NJ\, 57th St Beach \nJoin Heart of Surfing for a fun day of surfing! Free for families with autism and other developmental disabilities. \nCLICK HERE to book your surf time \nCLICK HERE FOR THE REGISTRATION FORM: Please fill this form out ONCE\, per surfer\, for the 2024 season. A registration form MUST be filled out for each surfer before the event.
URL:https://www.heartofsurfing.org/events/heart-of-surfing-surf-day-32/
LOCATION:New Jersey (NJ)
CATEGORIES:Surfing
ATTACH;FMTTYPE=image/jpeg:https://www.heartofsurfing.org/wp-content/uploads/2022/07/5a1d3b5f0a750f20fe7fe10311c3072d.0.jpg
END:VEVENT
BEGIN:VEVENT
DTSTART;TZID=America/New_York:20240810T090000
DTEND;TZID=America/New_York:20240810T120000
DTSTAMP:20260424T035743
CREATED:20240508T154705Z
LAST-MODIFIED:20240814T015143Z
UID:1611-1723280400-1723291200@www.heartofsurfing.org
SUMMARY:Hard Rock Presents: A Heart of Surfing Surf Day
DESCRIPTION:CANCELLED- RESCHEDULED FOR AUG 24TH \nSaturday\, August 10\n9am to 12pm\nLocation: On the Beach at Hard Rock \nJoin Heart of Surfing for a fun day of surfing! Free for families with autism and other developmental disabilities. \nCLICK HERE to book your free session! Come out and enjoy the fun! \nCLICK HERE FOR THE REGISTRATION FORM: Please fill this form out ONCE\, per surfer\, for the 2024 season. A registration form MUST be filled out for each surfer before the event.
URL:https://www.heartofsurfing.org/events/hard-rock-presents-a-heart-of-surfing-surf-day/
LOCATION:Hard Rock Hotel and Casino Atlantic City\, 1000 Boardwalk\, Atlantic City\, New Jersey (NJ)\, 08401
CATEGORIES:Surfing
ATTACH;FMTTYPE=image/jpeg:https://www.heartofsurfing.org/wp-content/uploads/2023/04/Hard-Rock-AC.jpg
END:VEVENT
BEGIN:VEVENT
DTSTART;TZID=America/New_York:20240804T100000
DTEND;TZID=America/New_York:20240804T130000
DTSTAMP:20260424T035743
CREATED:20240718T184156Z
LAST-MODIFIED:20240719T221547Z
UID:1645-1722765600-1722776400@www.heartofsurfing.org
SUMMARY:Heart of Surfing- Surf Day
DESCRIPTION:August 4th\n10am to 1pm\nBetween 46th and 47th Street Beach\, Sea Isle City\, NJ \nSponsored by Sea Isle City Beach Patrol\nJoin Heart of Surfing for a fun day of surfing! Free for families with autism and other developmental disabilities. \nONLY SURFERS NEED TO BOOK THEIR TIME \nCLICK HERE FOR THE REGISTRATION FORM: Please fill this form out ONCE\, per surfer\, for the 2024 season. A registration form MUST be filled out for each surfer before the event.
URL:https://www.heartofsurfing.org/events/heart-of-surfing-surf-day-35/
LOCATION:New Jersey (NJ)
CATEGORIES:Surfing
END:VEVENT
BEGIN:VEVENT
DTSTART;TZID=America/New_York:20240803T100000
DTEND;TZID=America/New_York:20240803T130000
DTSTAMP:20260424T035743
CREATED:20240508T153141Z
LAST-MODIFIED:20240520T152727Z
UID:1601-1722679200-1722690000@www.heartofsurfing.org
SUMMARY:Heart of Surfing- Surf Day
DESCRIPTION:August 3rd\n10am to 1pm\nLocation: 2nd Street Beach\, North Wildwood \nJoin Heart of Surfing for a fun day of surfing! Free for families with autism and other developmental disabilities. \nCLICK HERE to book your surf time \nONLY SURFERS NEED TO BOOK THEIR TIME \nCLICK HERE FOR THE REGISTRATION FORM: Please fill this form out ONCE\, per surfer\, for the 2024 season. A registration form MUST be filled out for each surfer before the event.
URL:https://www.heartofsurfing.org/events/heart-of-surfing-surf-day-31/
LOCATION:New Jersey (NJ)
CATEGORIES:Surfing
ATTACH;FMTTYPE=image/jpeg:https://www.heartofsurfing.org/wp-content/uploads/2022/07/7e6b7b448c80c5ec394b65175df803d4.0.jpg
END:VEVENT
BEGIN:VEVENT
DTSTART;TZID=America/New_York:20240727T090000
DTEND;TZID=America/New_York:20240727T120000
DTSTAMP:20260424T035743
CREATED:20240508T152927Z
LAST-MODIFIED:20240508T154219Z
UID:1598-1722070800-1722081600@www.heartofsurfing.org
SUMMARY:Heart of Surfing- Surf Day
DESCRIPTION:Saturday\, July 27\n9am to 12pm\nLocation: Jackson Ave Beach in Atlantic City \nJoin Heart of Surfing for a fun day of surfing! Free for families with autism and other developmental disabilities. \nCLICK HERE to book your surf time \nONLY SURFERS NEED TO BOOK THEIR TIME \nCLICK HERE FOR THE REGISTRATION FORM: Please fill this form out ONCE\, per surfer\, for the 2024 season. A registration form MUST be filled out for each surfer before the event.
URL:https://www.heartofsurfing.org/events/heart-of-surfing-surf-day-30/
LOCATION:New Jersey (NJ)
CATEGORIES:Surfing
ATTACH;FMTTYPE=image/jpeg:https://www.heartofsurfing.org/wp-content/uploads/2022/07/24371.jpg
END:VEVENT
BEGIN:VEVENT
DTSTART;TZID=America/New_York:20240720T090000
DTEND;TZID=America/New_York:20240720T120000
DTSTAMP:20260424T035743
CREATED:20240508T152347Z
LAST-MODIFIED:20240520T152423Z
UID:1595-1721466000-1721476800@www.heartofsurfing.org
SUMMARY:Heart of Surfing- Surf Day
DESCRIPTION:Saturday\, July 20\n9am to 12pm\nLocation: Margate/Longport\, Coolidge Ave \nJoin Heart of Surfing for a fun day of surfing! Free for families with autism and other developmental disabilities. \nCLICK HERE to book your surf time \nONLY SURFERS NEED TO BOOK THEIR TIME \nCLICK HERE FOR THE REGISTRATION FORM: Please fill this form out ONCE\, per surfer\, for the 2024 season. A registration form MUST be filled out for each surfer before the event.
URL:https://www.heartofsurfing.org/events/heart-of-surfing-surf-day-29/
LOCATION:New Jersey (NJ)
CATEGORIES:Surfing
ATTACH;FMTTYPE=image/jpeg:https://www.heartofsurfing.org/wp-content/uploads/2022/07/7c2806d915fdd11ddec9a200e77ad9aa.0-1-scaled.jpg
END:VEVENT
BEGIN:VEVENT
DTSTART;TZID=America/New_York:20240713T090000
DTEND;TZID=America/New_York:20240713T120000
DTSTAMP:20260424T035743
CREATED:20240508T152239Z
LAST-MODIFIED:20240508T154233Z
UID:1592-1720861200-1720872000@www.heartofsurfing.org
SUMMARY:Heart of Surfing- Surf Day
DESCRIPTION:Saturday\, July 13\n9am to 12pm\nLocation: Jackson Ave Beach in Atlantic City \nJoin Heart of Surfing for a fun day of surfing! Free for families with autism and other developmental disabilities. \nCLICK HERE to book your surf time \nONLY SURFERS NEED TO BOOK THEIR TIME \nCLICK HERE FOR THE REGISTRATION FORM: Please fill this form out ONCE\, per surfer\, for the 2024 season. A registration form MUST be filled out for each surfer before the event.
URL:https://www.heartofsurfing.org/events/heart-of-surfing-surf-day-28/
LOCATION:New Jersey (NJ)
CATEGORIES:Surfing
ATTACH;FMTTYPE=image/jpeg:https://www.heartofsurfing.org/wp-content/uploads/2022/07/eaa6c76fe109d3564f079505624c792e.0-scaled.jpg
END:VEVENT
BEGIN:VEVENT
DTSTART;TZID=America/New_York:20240706T090000
DTEND;TZID=America/New_York:20240706T120000
DTSTAMP:20260424T035743
CREATED:20240508T145438Z
LAST-MODIFIED:20240520T151640Z
UID:1590-1720256400-1720267200@www.heartofsurfing.org
SUMMARY:Heart of Surfing- Surf Day
DESCRIPTION:Saturday\, July 6\n9am to 12pm\nLocation: Ocean City\, NJ\, 57th St Beach \nJoin Heart of Surfing for a fun day of surfing! Free for families with autism and other developmental disabilities. \nCLICK HERE to book your surf time \nCLICK HERE FOR THE REGISTRATION FORM: Please fill this form out ONCE\, per surfer\, for the 2024 season. A registration form MUST be filled out for each surfer before the event.
URL:https://www.heartofsurfing.org/events/heart-of-surfing-surf-day-27/
LOCATION:New Jersey (NJ)
CATEGORIES:Surfing
ATTACH;FMTTYPE=image/jpeg:https://www.heartofsurfing.org/wp-content/uploads/2022/07/3be042f142a386720e0310c33f866b7c.0-1-scaled.jpg
END:VEVENT
BEGIN:VEVENT
DTSTART;TZID=America/New_York:20240629T090000
DTEND;TZID=America/New_York:20240629T120000
DTSTAMP:20260424T035743
CREATED:20240508T145305Z
LAST-MODIFIED:20240520T150350Z
UID:1587-1719651600-1719662400@www.heartofsurfing.org
SUMMARY:Heart of Surfing- Surf Day
DESCRIPTION:Saturday\, June 29\n9am to 12pm\nLocation: Ocean City\, NJ 57th St. \nJoin Heart of Surfing for a fun day of surfing! Free for families with autism and other developmental disabilities. \nCLICK HERE to book your surf time \nONLY SURFERS NEED TO BOOK THEIR TIME \nCLICK HERE FOR THE REGISTRATION FORM: Please fill this form out ONCE\, per surfer\, for the 2024 season. A registration form MUST be filled out for each surfer before the event.
URL:https://www.heartofsurfing.org/events/heart-of-surfing-surf-day-26/
LOCATION:New Jersey (NJ)
CATEGORIES:Surfing
ATTACH;FMTTYPE=image/jpeg:https://www.heartofsurfing.org/wp-content/uploads/2022/07/18599adb6a74fb510f73808bbc084286.0-1-scaled.jpg
END:VEVENT
BEGIN:VEVENT
DTSTART;TZID=America/New_York:20240622T100000
DTEND;TZID=America/New_York:20240622T130000
DTSTAMP:20260424T035743
CREATED:20240508T145032Z
LAST-MODIFIED:20240515T001340Z
UID:1585-1719050400-1719061200@www.heartofsurfing.org
SUMMARY:Heart of Surfing- Surf Day
DESCRIPTION:Saturday\, June 22\n10am to 1pm\nLocation: Brigantine Beach between 16th and 17th Street \nJoin Heart of Surfing for a fun day of surfing! Free for families with autism and other developmental disabilities. \nCLICK HERE to book your surf time \nCLICK HERE FOR THE REGISTRATION FORM: Please fill this form out ONCE\, per surfer\, for the 2024 season. A registration form MUST be filled out for each surfer before the event.
URL:https://www.heartofsurfing.org/events/surf-day/
LOCATION:New Jersey (NJ)
CATEGORIES:Surfing
ATTACH;FMTTYPE=image/jpeg:https://www.heartofsurfing.org/wp-content/uploads/2022/07/36e746baead9b1e78e11637aa738a80a.0-1-scaled.jpg
END:VEVENT
BEGIN:VEVENT
DTSTART;TZID=America/New_York:20220903T090000
DTEND;TZID=America/New_York:20220903T160000
DTSTAMP:20260424T035743
CREATED:20220304T024135Z
LAST-MODIFIED:20220711T153152Z
UID:962-1662195600-1662220800@www.heartofsurfing.org
SUMMARY:Heart of Surfing- Surf Day
DESCRIPTION:September 3rd\n57th St Beach\, Ocean City NJ \n30 minutes one-on-one surfing session with a volunteer surf instructor. Our focus is to create a positive experience for each surfer. We meet participants where they are and build skills from there. \nPlease limit one ticket\, per participant\, per time slot. \nPlease limit one ticket\, per participant\, per time slot. 2 tickets per order. If special circumstances arise please call or text 609-705-5323. \nLocation is to be announced! \nYou must fill out the google form before participating. Click Here to Fill Out the Participation Form \nThe Participation Google Form link can also be found under ticket information on Eventbrite. \nClick Here to Visit Eventbrite \nThere are multiple dates and times reflected on the Eventbrite page. Be sure to choose the date and time you wish to participate. \nAs we confirm volunteers more tickets will become available. Check back often for latest ticket updates!
URL:https://www.heartofsurfing.org/events/heart-of-surfing-surf-day-15/
LOCATION:New Jersey (NJ)
CATEGORIES:Surfing
END:VEVENT
BEGIN:VEVENT
DTSTART;TZID=America/New_York:20220827T090000
DTEND;TZID=America/New_York:20220827T160000
DTSTAMP:20260424T035743
CREATED:20220304T023956Z
LAST-MODIFIED:20220711T152507Z
UID:959-1661590800-1661616000@www.heartofsurfing.org
SUMMARY:Heart of Surfing- Surf Day
DESCRIPTION:August 27th\nJackson Ave Beach\, Atlantic City\, NJ \n30 minutes one-on-one surfing session with a volunteer surf instructor. Our focus is to create a positive experience for each surfer. We meet participants where they are and build skills from there. \nPlease limit one ticket\, per participant\, per time slot. \nPlease limit one ticket\, per participant\, per time slot. 2 tickets per order. If special circumstances arise please call or text 609-705-5323. \nLocation is to be announced! \nYou must fill out the google form before participating. Click Here to Fill Out the Participation Form \nThe Participation Google Form link can also be found under ticket information on Eventbrite. \nClick Here to Visit Eventbrite \nThere are multiple dates and times reflected on the Eventbrite page. Be sure to choose the date and time you wish to participate. \nAs we confirm volunteers more tickets will become available. Check back often for latest ticket updates!
URL:https://www.heartofsurfing.org/events/heart-of-surfing-surf-day-14/
LOCATION:New Jersey (NJ)
CATEGORIES:Surfing
END:VEVENT
BEGIN:VEVENT
DTSTART;VALUE=DATE:20220729
DTEND;VALUE=DATE:20220730
DTSTAMP:20260424T035743
CREATED:20220712T192612Z
LAST-MODIFIED:20220712T192651Z
UID:1139-1659052800-1659139199@www.heartofsurfing.org
SUMMARY:Heart of Surfing at the Chip Miller Surf Contest
DESCRIPTION:July 29th \n7th Street Beach in Ocean City NJ. \nMeet at our Heart of Surfing tent at 11:30am. Contest starts at 12:00pm. \nThe Surf Fest and the Chip Miller Amyloidosis Foundation were created in 2004 in memory of Chip Miller\, who proudly raised his family in Ocean City. Chip was known worldwide for his passion for Corvettes and resilient positive attitude. In 2003\, Chip was diagnosed with a rare disease called Amyloidosis\, which occurs when abnormal protein\, called amyloid\, builds up in one or more organs causing malfunction. Just a few short months after diagnosis\, the world lost an incredibly special person. The foundation needs your help to prevent this from happening to others. Grab your surfboard\, catch a wave for a great cause and help spread the word!! \nCLICK HERE to get your tickets for the event
URL:https://www.heartofsurfing.org/events/heart-of-surfing-at-the-chip-miller-surf-contest/
LOCATION:New Jersey (NJ)
CATEGORIES:Surfing
END:VEVENT
BEGIN:VEVENT
DTSTART;TZID=America/New_York:20220724T090000
DTEND;TZID=America/New_York:20220724T120000
DTSTAMP:20260424T035743
CREATED:20220627T213746Z
LAST-MODIFIED:20220711T152204Z
UID:1050-1658653200-1658664000@www.heartofsurfing.org
SUMMARY:Special Hard Rock Sponsored Bonus Surf Day
DESCRIPTION:July 24th\nNorth Beach in Atlantic City: States Avenue Beach \nFree Parking on Pennsylvania Ave for the first 30 cars. Then\, free parking garage parking. \nSpecial Thanks to Hard Rock Casino and Hotel in Atlantic City for sponsoring this bonus surf day! \n30 minutes one-on-one surfing session with a volunteer surf instructor. Our focus is to create a positive experience for each surfer. We meet participants where they are and build skills from there. \nPlease limit one ticket\, per participant\, per time slot. \nPlease limit one ticket\, per participant\, per time slot. 2 tickets per order. If special circumstances arise please call or text 609-705-5323. \nYou must fill out the google form before participating. Click Here to Fill Out the Participation Form \nThe Participation Google Form link can also be found under ticket information on Eventbrite. \nClick Here to Visit Eventbrite \nThere are multiple dates and times reflected on the Eventbrite page. Be sure to choose the date and time you wish to participate. \nAs we confirm volunteers more tickets will become available. Check back often for latest ticket updates!
URL:https://www.heartofsurfing.org/events/special-hard-rock-sponsored-bonus-surf-day/
LOCATION:New Jersey (NJ)
CATEGORIES:Surfing
END:VEVENT
BEGIN:VEVENT
DTSTART;TZID=America/New_York:20220709T090000
DTEND;TZID=America/New_York:20220709T120000
DTSTAMP:20260424T035743
CREATED:20220304T022236Z
LAST-MODIFIED:20220408T165921Z
UID:945-1657357200-1657368000@www.heartofsurfing.org
SUMMARY:Heart of Surfing- Surf Day
DESCRIPTION:July 9th \n30 minutes one-on-one surfing session with a volunteer surf instructor. Our focus is to create a positive experience for each surfer. We meet participants where they are and build skills from there. \nPlease limit one ticket\, per participant\, per time slot. \nPlease limit one ticket\, per participant\, per time slot. 2 tickets per order. If special circumstances arise please call or text 609-705-5323. \nLocation is to be announced! \nYou must fill out the google form before participating. Click Here to Fill Out the Participation Form \nThe Participation Google Form link can also be found under ticket information on Eventbrite. \nClick Here to Visit Eventbrite \nThere are multiple dates and times reflected on the Eventbrite page. Be sure to choose the date and time you wish to participate. \nAs we confirm volunteers more tickets will become available. Check back often for latest ticket updates!
URL:https://www.heartofsurfing.org/events/heart-of-surfing-surf-day-10/
LOCATION:New Jersey (NJ)
CATEGORIES:Surfing
END:VEVENT
BEGIN:VEVENT
DTSTART;TZID=America/New_York:20210904T090000
DTEND;TZID=America/New_York:20210904T120000
DTSTAMP:20260424T035743
CREATED:20210518T025645Z
LAST-MODIFIED:20210819T223028Z
UID:761-1630746000-1630756800@www.heartofsurfing.org
SUMMARY:Heart of Surfing- Surf Day
DESCRIPTION:September 4th\nOn the beach between Monroe and Coolidge\, Margate NJ\n9 a.m. to 12 p.m. \n30 minutes one-on-one surfing session with a volunteer surf instructor. Our focus is to create a positive experience for each surfer. We meet participants where they are and build skills from there. \nPlease limit one ticket\, per participant\, per time slot. \nYou must fill out the google form before participating. Form link found under ticket information on Eventbrite \nCLICK HERE to go to Heart of Surfing’s Eventbrite Page for September 4th!\nTickets are available by time slot. \nYou can also fill out the preregistration google form by CLICKING HERE
URL:https://www.heartofsurfing.org/events/heart-of-surfing-surf-day-8/
LOCATION:New Jersey (NJ)
CATEGORIES:Surfing
END:VEVENT
BEGIN:VEVENT
DTSTART;TZID=America/New_York:20210828T090000
DTEND;TZID=America/New_York:20210828T120000
DTSTAMP:20260424T035743
CREATED:20210518T025010Z
LAST-MODIFIED:20210819T223113Z
UID:757-1630141200-1630152000@www.heartofsurfing.org
SUMMARY:Heart of Surfing- Surf Day
DESCRIPTION:August 28th\n16th Street Beach\, Brigantine NJ\n9 a.m. to 12 p.m. \n30 minutes one-on-one surfing session with a volunteer surf instructor. Our focus is to create a positive experience for each surfer. We meet participants where they are and build skills from there. \nPlease limit one ticket\, per participant\, per time slot. \nYou must fill out the google form before participating. Form link found under ticket information on Eventbrite \nCLICK HERE to go to Heart of Surfing’s Eventbrite Page for August 28th!\nTickets are available by time slot. \nYou can also fill out the preregistration google form by CLICKING HERE
URL:https://www.heartofsurfing.org/events/heart-of-surfing-surf-day-7/
LOCATION:New Jersey (NJ)
CATEGORIES:Surfing
END:VEVENT
BEGIN:VEVENT
DTSTART;TZID=America/New_York:20210821T090000
DTEND;TZID=America/New_York:20210821T120000
DTSTAMP:20260424T035743
CREATED:20210518T024312Z
LAST-MODIFIED:20210819T222251Z
UID:755-1629536400-1629547200@www.heartofsurfing.org
SUMMARY:Heart of Surfing- Surf Day CANCELED
DESCRIPTION:CANCELED \nAugust 21st\nMonroe and Coolidge Ave in Margate\, NJ\n9 a.m. to 12 p.m. \n30 minutes one-on-one surfing session with a volunteer surf instructor. Our focus is to create a positive experience for each surfer. We meet participants where they are and build skills from there. \nPlease limit one ticket\, per participant\, per time slot. \nYou must fill out the google form before participating. Form link found under ticket information on Eventbrite \nCLICK HERE to go to Heart of Surfing’s Eventbrite Page for August 21st!\nTickets are available by time slot. \nYou can also fill out the preregistration google form by CLICKING HERE
URL:https://www.heartofsurfing.org/events/heart-of-surfing-surf-day-6/
LOCATION:New Jersey (NJ)
CATEGORIES:Surfing
END:VEVENT
BEGIN:VEVENT
DTSTART;TZID=America/New_York:20210814T090000
DTEND;TZID=America/New_York:20210814T120000
DTSTAMP:20260424T035743
CREATED:20210518T023540Z
LAST-MODIFIED:20210518T030448Z
UID:753-1628931600-1628942400@www.heartofsurfing.org
SUMMARY:Heart of Surfing- Surf Day
DESCRIPTION:August 14th\nJackson Ave Beach\, Atlantic City\, NJ\n9 a.m. to 12 p.m. \n30 minutes one-on-one surfing session with a volunteer surf instructor. Our focus is to create a positive experience for each surfer. We meet participants where they are and build skills from there. \nPlease limit one ticket\, per participant\, per time slot. \nYou must fill out the google form before participating. Form link found under ticket information on Eventbrite \nCLICK HERE to go to Heart of Surfing’s Eventbrite Page for August 14th!\nTickets are available by time slot. \nYou can also fill out the preregistration google form by CLICKING HERE
URL:https://www.heartofsurfing.org/events/heart-of-surfing-surf-day-5/
LOCATION:New Jersey (NJ)
CATEGORIES:Surfing
END:VEVENT
BEGIN:VEVENT
DTSTART;TZID=America/New_York:20210807T090000
DTEND;TZID=America/New_York:20210807T120000
DTSTAMP:20260424T035743
CREATED:20210326T211933Z
LAST-MODIFIED:20210326T212252Z
UID:701-1628326800-1628337600@www.heartofsurfing.org
SUMMARY:Surfing Day in North Wildwood
DESCRIPTION:North Wildwood Beach Surf day for families with autism.\n2nd Ave Beach \n20-30 minute one-on-one surfing session with a volunteer surf instructor. Our focus is to create a positive experience for each surfer. We meet participants where they are and build skills from there. \nHeart of Surfing teams up with local surf legend Dean Randazzo for a fun day in North Wildwood. \nPlease limit one ticket\, per participant\, per time slot. \nYou must fill out the google form before participating. Form link found under ticket information on Eventbrite \nCLICK HERE to go to Heart of Surfing’s Eventbrite Page for Aug 7th!
URL:https://www.heartofsurfing.org/events/surfing-day-in-north-wildwood/
LOCATION:New Jersey (NJ)
CATEGORIES:Surfing
END:VEVENT
BEGIN:VEVENT
DTSTART;TZID=America/New_York:20210731T090000
DTEND;TZID=America/New_York:20210731T120000
DTSTAMP:20260424T035743
CREATED:20210518T022837Z
LAST-MODIFIED:20210518T030331Z
UID:749-1627722000-1627732800@www.heartofsurfing.org
SUMMARY:Heart of Surfing- Surf Day
DESCRIPTION:July 31st\n57th Street Beach\, Ocean City NJ\n9 a.m. to 12p.m. \n30 minutes one-on-one surfing session with a volunteer surf instructor. Our focus is to create a positive experience for each surfer. We meet participants where they are and build skills from there. \nPlease limit one ticket\, per participant\, per time slot. \nYou must fill out the google form before participating. Form link found under ticket information on Eventbrite \nCLICK HERE to go to Heart of Surfing’s Eventbrite Page for July 31st!\nTickets are available by time slot. \nYou can also fill out the preregistration google form by CLICKING HERE
URL:https://www.heartofsurfing.org/events/heart-of-surfing-surf-day-4/
LOCATION:New Jersey (NJ)
CATEGORIES:Surfing
END:VEVENT
BEGIN:VEVENT
DTSTART;TZID=America/New_York:20210724T090000
DTEND;TZID=America/New_York:20210724T120000
DTSTAMP:20260424T035743
CREATED:20210518T020723Z
LAST-MODIFIED:20210518T022150Z
UID:743-1627117200-1627128000@www.heartofsurfing.org
SUMMARY:Heart of Surfing- Surf Day
DESCRIPTION:July 24th\n57th St Beach\, OCNJ\n9 a.m. to 12 p.m. \n30 minutes one-on-one surfing session with a volunteer surf instructor. Our focus is to create a positive experience for each surfer. We meet participants where they are and build skills from there. \nPlease limit one ticket\, per participant\, per time slot. \nYou must fill out the google form before participating. Form link found under ticket information on Eventbrite \nCLICK HERE to go to Heart of Surfing’s Eventbrite Page for July 24th!\nTickets are available by time slot. \nYou can also fill out the preregistration google form by CLICKING HERE
URL:https://www.heartofsurfing.org/events/heart-of-surfing-surf-day/
LOCATION:New Jersey (NJ)
CATEGORIES:Surfing
END:VEVENT
BEGIN:VEVENT
DTSTART;TZID=America/New_York:20210626T090000
DTEND;TZID=America/New_York:20210626T120000
DTSTAMP:20260424T035743
CREATED:20210514T021349Z
LAST-MODIFIED:20210514T021801Z
UID:738-1624698000-1624708800@www.heartofsurfing.org
SUMMARY:Heart of Surfing- Surf Day
DESCRIPTION:16th Street Brigantine Beach\n9AM-12PM. 30 min sessions. \n30 minutes one-on-one surfing session with a volunteer surf instructor. Our focus is to create a positive experience for each surfer. We meet participants where they are and build skills from there. \nPlease limit one ticket\, per participant\, per time slot. \nYou must fill out the google form before participating. Form link found under ticket information on Eventbrite \nCLICK HERE to go to Heart of Surfing’s Eventbrite Page for June 26th!\nTickets are available by time slot. \nYou can also fill out the preregistration google form by CLICKING HERE
URL:https://www.heartofsurfing.org/events/738/
LOCATION:New Jersey (NJ)
CATEGORIES:Surfing
END:VEVENT
END:VCALENDAR