BEGIN:VCALENDAR
VERSION:2.0
PRODID:-//Heart of Surfing - ECPv6.15.20//NONSGML v1.0//EN
CALSCALE:GREGORIAN
METHOD:PUBLISH
X-WR-CALNAME:Heart of Surfing
X-ORIGINAL-URL:https://www.heartofsurfing.org
X-WR-CALDESC:Events for Heart of Surfing
REFRESH-INTERVAL;VALUE=DURATION:PT1H
X-Robots-Tag:noindex
X-PUBLISHED-TTL:PT1H
BEGIN:VTIMEZONE
TZID:America/New_York
BEGIN:DAYLIGHT
TZOFFSETFROM:-0500
TZOFFSETTO:-0400
TZNAME:EDT
DTSTART:20230312T070000
END:DAYLIGHT
BEGIN:STANDARD
TZOFFSETFROM:-0400
TZOFFSETTO:-0500
TZNAME:EST
DTSTART:20231105T060000
END:STANDARD
BEGIN:DAYLIGHT
TZOFFSETFROM:-0500
TZOFFSETTO:-0400
TZNAME:EDT
DTSTART:20240310T070000
END:DAYLIGHT
BEGIN:STANDARD
TZOFFSETFROM:-0400
TZOFFSETTO:-0500
TZNAME:EST
DTSTART:20241103T060000
END:STANDARD
BEGIN:DAYLIGHT
TZOFFSETFROM:-0500
TZOFFSETTO:-0400
TZNAME:EDT
DTSTART:20250309T070000
END:DAYLIGHT
BEGIN:STANDARD
TZOFFSETFROM:-0400
TZOFFSETTO:-0500
TZNAME:EST
DTSTART:20251102T060000
END:STANDARD
BEGIN:DAYLIGHT
TZOFFSETFROM:-0500
TZOFFSETTO:-0400
TZNAME:EDT
DTSTART:20260308T070000
END:DAYLIGHT
BEGIN:STANDARD
TZOFFSETFROM:-0400
TZOFFSETTO:-0500
TZNAME:EST
DTSTART:20261101T060000
END:STANDARD
END:VTIMEZONE
BEGIN:VEVENT
DTSTART;TZID=America/New_York:20250607T103000
DTEND;TZID=America/New_York:20250607T120000
DTSTAMP:20260424T120825
CREATED:20250516T151856Z
LAST-MODIFIED:20250516T152159Z
UID:2131-1749292200-1749297600@www.heartofsurfing.org
SUMMARY:Adaptive Skateboarding
DESCRIPTION:Brigantine Skate Park 4100 Bayshore Ave\, Brigantine\, NJ
URL:https://www.heartofsurfing.org/events/adaptive-skateboarding-4/
CATEGORIES:Skateboarding
END:VEVENT
BEGIN:VEVENT
DTSTART;TZID=America/New_York:20250503T103000
DTEND;TZID=America/New_York:20250503T120000
DTSTAMP:20260424T120825
CREATED:20250423T133824Z
LAST-MODIFIED:20250423T155854Z
UID:1902-1746268200-1746273600@www.heartofsurfing.org
SUMMARY:Skateboarding with Heart of Surfing
DESCRIPTION:ADAPTIVE SKATE Season is almost here!🛹🛴 \nMay 3\, 10\, 17\, 31 \nJune 7\, 14 \n10:30 – noon \nGrab your helmet🪖 and meet us at the Brigantine Skatepark.🛹🛴\nOpen to all families with AUTISM & related dev. disabilities.\nWe provide boards and scooters. Pads optional. **Helmets are mandatory for safety.\nNo pre-registration required – just come out and join in the fun. For more information\, email mail@heartofsurfing.org or text/call 609 705 5323 \nHeartofsurfing.org
URL:https://www.heartofsurfing.org/events/skateboarding-with-heart-of-surfing-6/
LOCATION:Brigantine Skatepark\, 4100 Bayshore Ave\, Brigantine\, NJ\, 08203\, United States
ATTACH;FMTTYPE=image/png:https://www.heartofsurfing.org/wp-content/uploads/2025/04/chrome_Cn9ufUgtLw.png
END:VEVENT
BEGIN:VEVENT
DTSTART;TZID=America/New_York:20250427T130000
DTEND;TZID=America/New_York:20250427T150000
DTSTAMP:20260424T120825
CREATED:20250406T134304Z
LAST-MODIFIED:20250425T181223Z
UID:1880-1745758800-1745766000@www.heartofsurfing.org
SUMMARY:Heart of Surfing at Playland's Castaway Cove
DESCRIPTION:Join Heart of Surfing for a day of fun at Playland’s Castaway Cove on the Ocean City Boardwalk on Sunday\, April 27\, 1-3 pm\n\nFREE for families with AUTISM and other developmental disabilities \n  \n\n\n\n\n  \nLimit 4 per family\, special circumstances\, then text or call  609 705 5323. \n\n\n**Pre-registration Required **\n    Please fill out the form below
URL:https://www.heartofsurfing.org/events/heart-of-surfing-at-playlands-castaway-cove-2/
LOCATION:Playland’s Castaway Cove\, 1020 Boardwalk\, Ocean City\, NJ\, 08226\, United States
ATTACH;FMTTYPE=image/jpeg:https://www.heartofsurfing.org/wp-content/uploads/2025/04/1000036199.jpg
END:VEVENT
BEGIN:VEVENT
DTSTART;TZID=America/New_York:20250412T110000
DTEND;TZID=America/New_York:20250412T130000
DTSTAMP:20260424T120825
CREATED:20250322T235529Z
LAST-MODIFIED:20250322T235529Z
UID:1875-1744455600-1744462800@www.heartofsurfing.org
SUMMARY:Heart of Surfing on the Easter Bunny Express
DESCRIPTION:Easter Bunny Express\nSaturday\, April 12 at 11:00am from The Seashore Line’s Tuckahoe Station \n**Every person (including parents\, siblings\, caregivers) on the train MUST have a ticket. Max. 4 per family please!**  \nFor families with AUTISM and related developmental disabilities. \nHOP ON BOARD THE EASTER BUNNY EXPRESS with Heart of Surfing! The Easter Bunny will travel on a Seashore Lines special train and visit with all passengers\, young and older! Each child onboard will receive a special gift from the Easter Bunny! A live musician will also be onboard\, for the enjoyment of all! \n  \nCLICK HERE TO RESERVE YOUR TICKETS! 
URL:https://www.heartofsurfing.org/events/heart-of-surfing-on-the-easter-bunny-express/
LOCATION:The Seashore Gardens Tuckahoe Station\, 31 Mill Road\, Tuckahoe\, NJ\, 08250\, United States
ATTACH;FMTTYPE=image/jpeg:https://www.heartofsurfing.org/wp-content/uploads/2025/03/FB_IMG_1742601526977.jpg
END:VEVENT
BEGIN:VEVENT
DTSTART;TZID=America/New_York:20250403T170000
DTEND;TZID=America/New_York:20250403T200000
DTSTAMP:20260424T120825
CREATED:20250316T195423Z
LAST-MODIFIED:20250316T195423Z
UID:1870-1743699600-1743710400@www.heartofsurfing.org
SUMMARY:Heart of Surfing Bounce Party!
DESCRIPTION:Heart of Surfing Bounce Party\nThursday April 3\, 5p-8p\nGet Air\, Mays Landing \nCome and jump in on the fun!! Enjoy air time\, pizza\, drinks and snacks with Heart of Surfing. \nCLICK HERE TO RESERVE YOUR TICKETS
URL:https://www.heartofsurfing.org/events/heart-of-surfing-bounce-party/
LOCATION:Get Air Trampoline Park\, 4403 Black Horse Pike C3\, Mays Landing\, New Jersey\, 08330\, United States
ATTACH;FMTTYPE=image/jpeg:https://www.heartofsurfing.org/wp-content/uploads/2025/03/unnamed-1.jpg
END:VEVENT
BEGIN:VEVENT
DTSTART;TZID=America/New_York:20250328T170000
DTEND;TZID=America/New_York:20250328T190000
DTSTAMP:20260424T120825
CREATED:20250316T200337Z
LAST-MODIFIED:20250316T200657Z
UID:1873-1743181200-1743188400@www.heartofsurfing.org
SUMMARY:Heart of Surfing Lamb Camp
DESCRIPTION:Friday\, March 28 at 5pm\nLamb Camp at Misty Meadow Sheep and Dairy Farm \nCome and join Heart of Surfing at Misty Meadow Sheep and Dairy Farm to see the lambs\, read them stories\, and walk the farm! Tickets are required for this event! \n \nCLICK HERE TO RESERVE YOUR TICKETS
URL:https://www.heartofsurfing.org/events/heart-of-surfing-lamb-camp-2/
LOCATION:Misty Meadows Sheep and Dairy Farm\, 100 Dennisville-Petersburg Rd\, Woodbine\, NJ\, 08270\, United States
ATTACH;FMTTYPE=image/jpeg:https://www.heartofsurfing.org/wp-content/uploads/2025/03/FB_IMG_1740848859554.jpg
END:VEVENT
BEGIN:VEVENT
DTSTART;TZID=America/New_York:20250315T120000
DTEND;TZID=America/New_York:20250315T150000
DTSTAMP:20260424T120825
CREATED:20250222T205916Z
LAST-MODIFIED:20250228T151408Z
UID:1747-1742040000-1742050800@www.heartofsurfing.org
SUMMARY:Heart of Surfing at Island AC Waterpark
DESCRIPTION:**NEW INFO ADDED\, PLEASE READ** \nIsland Waterpark at Showboat in Atlantic City\nMarch 15\, 12p-3p \nONLY SWIMMERS NEED TICKETS- Free tickets apply to the swimmer with autism or other developmental disability\n \nCaregivers/Guardians may enter at no charge. Please register siblings as swimmers. ( also free of charge)\nLimit 4 tickets per family. If you have extenuating circumstances please text or call 609 705 5323.\n**FREE PARKING**\nEnjoy a day at Island Waterpark with Heart of Surfing! Your swimmer will enjoy the water slides and a meal card for a slice of pizza or chicken nuggets. We look forward to splashing with you soon! \n  \nCLICK HERE TO RESERVE YOUR TICKETS
URL:https://www.heartofsurfing.org/events/heart-of-surfing-at-island-ac-waterpark/
LOCATION:Island Waterpark\, 801 Boardwalk\, Atlantic City\, NM\, 08401\, United States
ATTACH;FMTTYPE=image/jpeg:https://www.heartofsurfing.org/wp-content/uploads/2025/02/1000032805.jpg
END:VEVENT
BEGIN:VEVENT
DTSTART;TZID=America/New_York:20250221T160000
DTEND;TZID=America/New_York:20250221T180000
DTSTAMP:20260424T120825
CREATED:20241003T174931Z
LAST-MODIFIED:20241003T174931Z
UID:1713-1740153600-1740160800@www.heartofsurfing.org
SUMMARY:Roller Skating with Heart of Surfing
DESCRIPTION:SENSORY FRIENDLY ROLLER SKATING\nYoung’s Skating Center 4pm-6pm\n\nFeb 21\n\n \n\n\n\nNo pre-registration required. Free for families with autism and other developmental disabilities.
URL:https://www.heartofsurfing.org/events/roller-skating-with-heart-of-surfing-11/
LOCATION:Youngs Skating Center\, 763 Park Road \, Mays Landing \, NJ\, 08330
ATTACH;FMTTYPE=image/jpeg:https://www.heartofsurfing.org/wp-content/uploads/2021/02/IMG_20210227_210705_749.jpg
END:VEVENT
BEGIN:VEVENT
DTSTART;TZID=America/New_York:20250215T151500
DTEND;TZID=America/New_York:20250215T171500
DTSTAMP:20260424T120825
CREATED:20250212T003856Z
LAST-MODIFIED:20250212T003856Z
UID:1745-1739632500-1739639700@www.heartofsurfing.org
SUMMARY:Heart of Surfing- Sensory Friendly Ice Skating
DESCRIPTION:Saturday\, Feb 15th\n3:15pm to 5:15pm\nAtlantic City Skate Zone \n  \nJoin Heart of Surfing for a day of fun ice skating at XXX. Plus\, free skate rentals and a complimentary hot chocolate! \nNo Preregistration required. Free for families with autism and other developmental disabilities.
URL:https://www.heartofsurfing.org/events/heart-of-surfing-sensory-friendly-ice-skating/
LOCATION:Atlantic City Skate Zone
ATTACH;FMTTYPE=image/webp:https://www.heartofsurfing.org/wp-content/uploads/2023/02/IMG_20230204_095518_166.webp
END:VEVENT
BEGIN:VEVENT
DTSTART;TZID=America/New_York:20250214T160000
DTEND;TZID=America/New_York:20250214T180000
DTSTAMP:20260424T120825
CREATED:20241003T174742Z
LAST-MODIFIED:20241003T174742Z
UID:1711-1739548800-1739556000@www.heartofsurfing.org
SUMMARY:Roller Skating with Heart of Surfing
DESCRIPTION:SENSORY FRIENDLY ROLLER SKATING\nYoung’s Skating Center 4pm-6pm\n\nFeb 14\n\n \n\n\n\nNo pre-registration required. Free for families with autism and other developmental disabilities.
URL:https://www.heartofsurfing.org/events/roller-skating-with-heart-of-surfing-10/
LOCATION:Youngs Skating Center\, 763 Park Road \, Mays Landing \, NJ\, 08330
ATTACH;FMTTYPE=image/jpeg:https://www.heartofsurfing.org/wp-content/uploads/2021/02/IMG_20210227_210705_749.jpg
END:VEVENT
BEGIN:VEVENT
DTSTART;TZID=America/New_York:20250207T160000
DTEND;TZID=America/New_York:20250207T180000
DTSTAMP:20260424T120825
CREATED:20241003T174622Z
LAST-MODIFIED:20250207T135905Z
UID:1709-1738944000-1738951200@www.heartofsurfing.org
SUMMARY:Roller Skating with Heart of Surfing-CANCELED
DESCRIPTION:THIS EVENT HAS BEEN CANCELED\n\nSENSORY FRIENDLY ROLLER SKATING\nYoung’s Skating Center 4pm-6pm\n\nFeb 7\n\n \n\n\n\nNo pre-registration required. Free for families with autism and other developmental disabilities.
URL:https://www.heartofsurfing.org/events/roller-skating-with-heart-of-surfing-9/
LOCATION:Youngs Skating Center\, 763 Park Road \, Mays Landing \, NJ\, 08330
ATTACH;FMTTYPE=image/jpeg:https://www.heartofsurfing.org/wp-content/uploads/2021/02/IMG_20210227_210705_749.jpg
END:VEVENT
BEGIN:VEVENT
DTSTART;TZID=America/New_York:20250124T160000
DTEND;TZID=America/New_York:20250124T180000
DTSTAMP:20260424T120825
CREATED:20241003T174435Z
LAST-MODIFIED:20250102T170932Z
UID:1707-1737734400-1737741600@www.heartofsurfing.org
SUMMARY:Roller Skating with Heart of Surfing
DESCRIPTION:SENSORY FRIENDLY ROLLER SKATING\nYoung’s Skating Center 4pm-6pm\n\nJan 24\n\n \n\nSENSORY FRIENDLY – no crowds\, lines\, flashing lights\, loud music. Parents/Guardians are permitted to walk on the rink (without skates) to assist their child. Skate mates are also available to assist participants\n\nNo pre-registration required. Free for families with autism and other developmental disabilities.
URL:https://www.heartofsurfing.org/events/roller-skating-with-heart-of-surfing-8/
LOCATION:Youngs Skating Center\, 763 Park Road \, Mays Landing \, NJ\, 08330
ATTACH;FMTTYPE=image/jpeg:https://www.heartofsurfing.org/wp-content/uploads/2021/02/IMG_20210227_210705_749.jpg
END:VEVENT
BEGIN:VEVENT
DTSTART;TZID=America/New_York:20250110T160000
DTEND;TZID=America/New_York:20250110T180000
DTSTAMP:20260424T120825
CREATED:20241003T173941Z
LAST-MODIFIED:20250102T170854Z
UID:1705-1736524800-1736532000@www.heartofsurfing.org
SUMMARY:Roller Skating with Heart of Surfing
DESCRIPTION:SENSORY FRIENDLY ROLLER SKATING\nYoung’s Skating Center 4pm-6pm\n\nJan 10\n\n \n\n\nSENSORY FRIENDLY – no crowds\, lines\, flashing lights\, loud music. Parents/Guardians are permitted to walk on the rink (without skates) to assist their child. Skate mates are also available to assist participants\n\nNo pre-registration required. Free for families with autism and other developmental disabilities.
URL:https://www.heartofsurfing.org/events/roller-skating-with-heart-of-surfing-7/
LOCATION:Youngs Skating Center\, 763 Park Road \, Mays Landing \, NJ\, 08330
ATTACH;FMTTYPE=image/jpeg:https://www.heartofsurfing.org/wp-content/uploads/2021/02/IMG_20210227_210705_749.jpg
END:VEVENT
BEGIN:VEVENT
DTSTART;TZID=America/New_York:20250103T160000
DTEND;TZID=America/New_York:20250103T180000
DTSTAMP:20260424T120825
CREATED:20241003T173744Z
LAST-MODIFIED:20250102T170806Z
UID:1703-1735920000-1735927200@www.heartofsurfing.org
SUMMARY:Roller Skating with Heart of Surfing
DESCRIPTION:SENSORY FRIENDLY ROLLER SKATING\nYoung’s Skating Center 4pm-6pm\n\nJan 3\n\n \n\n\nSENSORY FRIENDLY – no crowds\, lines\, flashing lights\, loud music. Parents/Guardians are permitted to walk on the rink (without skates) to assist their child. Skate mates are also available to assist participants\n\n\n\nNo pre-registration required. Free for families with autism and other developmental disabilities.
URL:https://www.heartofsurfing.org/events/roller-skating-with-heart-of-surfing-6/
LOCATION:Youngs Skating Center\, 763 Park Road \, Mays Landing \, NJ\, 08330
ATTACH;FMTTYPE=image/jpeg:https://www.heartofsurfing.org/wp-content/uploads/2021/02/IMG_20210227_210705_749.jpg
END:VEVENT
BEGIN:VEVENT
DTSTART;TZID=America/New_York:20241227T160000
DTEND;TZID=America/New_York:20241227T180000
DTSTAMP:20260424T120825
CREATED:20241003T173608Z
LAST-MODIFIED:20241003T173608Z
UID:1701-1735315200-1735322400@www.heartofsurfing.org
SUMMARY:Roller Skating with Heart of Surfing
DESCRIPTION:SENSORY FRIENDLY ROLLER SKATING\nYoung’s Skating Center 4pm-6pm\n\nDec 27\n\n\n \n\n\n\nNo pre-registration required. Free for families with autism and other developmental disabilities.
URL:https://www.heartofsurfing.org/events/roller-skating-with-heart-of-surfing-5/
LOCATION:Youngs Skating Center\, 763 Park Road \, Mays Landing \, NJ\, 08330
ATTACH;FMTTYPE=image/jpeg:https://www.heartofsurfing.org/wp-content/uploads/2021/02/IMG_20210227_210705_749.jpg
END:VEVENT
BEGIN:VEVENT
DTSTART;TZID=America/New_York:20241220T160000
DTEND;TZID=America/New_York:20241220T180000
DTSTAMP:20260424T120825
CREATED:20241003T173349Z
LAST-MODIFIED:20241003T173349Z
UID:1699-1734710400-1734717600@www.heartofsurfing.org
SUMMARY:Roller Skating with Heart of Surfing
DESCRIPTION:SENSORY FRIENDLY ROLLER SKATING\nYoung’s Skating Center 4pm-6pm\n\nDec 20\n\n \n\n\n\nNo pre-registration required. Free for families with autism and other developmental disabilities.
URL:https://www.heartofsurfing.org/events/roller-skating-with-heart-of-surfing-4/
LOCATION:Youngs Skating Center\, 763 Park Road \, Mays Landing \, NJ\, 08330
ATTACH;FMTTYPE=image/jpeg:https://www.heartofsurfing.org/wp-content/uploads/2021/02/IMG_20210227_210705_749.jpg
END:VEVENT
BEGIN:VEVENT
DTSTART;TZID=America/New_York:20241215T154500
DTEND;TZID=America/New_York:20241215T170000
DTSTAMP:20260424T120825
CREATED:20241124T224448Z
LAST-MODIFIED:20241125T014754Z
UID:1732-1734277500-1734282000@www.heartofsurfing.org
SUMMARY:Heart of Surfing visits the Santa Express🚂🎅
DESCRIPTION:Sunday\, Dec. 15\, 3:45pm\n**RICHLAND STATION** Train No. 305 \nFREE for families with Autism & developmental disabilities. Limited availability. FREE to the first 150 riders. Pre-registration is a MUST.\nLimit 4 per family\, special circumstances text or call 609 705 5323. \nCLICK HERE TO RESERVE YOUR TICKETS
URL:https://www.heartofsurfing.org/events/heart-of-surfing-visits-the-santa-express%f0%9f%9a%82%f0%9f%8e%85-2/
ATTACH;FMTTYPE=image/jpeg:https://www.heartofsurfing.org/wp-content/uploads/2024/11/1000019025.jpg
END:VEVENT
BEGIN:VEVENT
DTSTART;TZID=America/New_York:20241213T160000
DTEND;TZID=America/New_York:20241213T180000
DTSTAMP:20260424T120825
CREATED:20241003T173115Z
LAST-MODIFIED:20241003T173115Z
UID:1697-1734105600-1734112800@www.heartofsurfing.org
SUMMARY:Roller Skating with Heart of Surfing
DESCRIPTION:SENSORY FRIENDLY ROLLER SKATING\nYoung’s Skating Center 4pm-6pm\n\nDec 13\, 20\, 27\n\n\n \n\n\n\nNo pre-registration required. Free for families with autism and other developmental disabilities.
URL:https://www.heartofsurfing.org/events/roller-skating-with-heart-of-surfing-3/
LOCATION:Youngs Skating Center\, 763 Park Road \, Mays Landing \, NJ\, 08330
ATTACH;FMTTYPE=image/jpeg:https://www.heartofsurfing.org/wp-content/uploads/2021/02/IMG_20210227_210705_749.jpg
END:VEVENT
BEGIN:VEVENT
DTSTART;TZID=America/New_York:20241212T170000
DTEND;TZID=America/New_York:20241212T200000
DTSTAMP:20260424T120825
CREATED:20241109T212616Z
LAST-MODIFIED:20241109T212804Z
UID:1727-1734022800-1734033600@www.heartofsurfing.org
SUMMARY:Heart of Surfing Jump in your Jammies at Get Air Trampoline Park
DESCRIPTION:Get Air Mays Landing\nDec 12\, 5p-8p \nJump in your jammies — Get Air Trampoline Park Pizza Party with a special visit from Santa FREE to the first 100 jumpers! For families with Autism and other developmental disabilities.  *Pre-registration is required. ONLY JUMPERS NEED TICKETS ( NOT PARENTS who may help or assist without a ticket) \nlimit 4 per family\, if special circumstances text or call 609 705 5323 \nCLICK HERE TO RESERVE YOUR TICKETS
URL:https://www.heartofsurfing.org/events/heart-of-surfing-jump-in-your-jammies-at-get-air-trampoline-park/
LOCATION:Get Air Trampoline Park\, 4403 Black Horse Pike C3\, Mays Landing\, New Jersey\, 08330\, United States
ATTACH;FMTTYPE=image/jpeg:https://www.heartofsurfing.org/wp-content/uploads/2024/11/1000019029.jpg
END:VEVENT
BEGIN:VEVENT
DTSTART;TZID=America/New_York:20241208T180000
DTEND;TZID=America/New_York:20241208T200000
DTSTAMP:20260424T120825
CREATED:20241109T205222Z
LAST-MODIFIED:20241109T205222Z
UID:1724-1733680800-1733688000@www.heartofsurfing.org
SUMMARY:Heart of Surfing visits the Santa Express🚂🎅
DESCRIPTION:Sunday\, Dec. 8\, 6pm\n**RICHLAND STATION** \nFREE for families with Autism & developmental disabilities. Limited availability. FREE to the first 150 riders. Pre-registration is a MUST.\nLimit 4 per family\, special circumstances text or call 609 705 5323. \nCLICK HERE TO RESERVE YOUR TICKETS
URL:https://www.heartofsurfing.org/events/heart-of-surfing-visits-the-santa-express%f0%9f%9a%82%f0%9f%8e%85/
ATTACH;FMTTYPE=image/jpeg:https://www.heartofsurfing.org/wp-content/uploads/2024/11/1000019025.jpg
END:VEVENT
BEGIN:VEVENT
DTSTART;TZID=America/New_York:20241123T103000
DTEND;TZID=America/New_York:20241123T120000
DTSTAMP:20260424T120825
CREATED:20241003T172153Z
LAST-MODIFIED:20241003T172416Z
UID:1685-1732357800-1732363200@www.heartofsurfing.org
SUMMARY:Skateboarding with Heart of Surfing
DESCRIPTION:Adaptive Skateboarding\nBrigantine Skate Park 10:30am – 12pm\nNov 23\n\n\n \n\nNo pre-registration required. Free for families with autism and other developments disabilities.
URL:https://www.heartofsurfing.org/events/skateboarding-with-heart-of-surfing-5/
LOCATION:Brigantine Skate Park\, 4100 Bayshore Ave\, Brigantine\, NJ\, 08203
ATTACH;FMTTYPE=image/jpeg:https://www.heartofsurfing.org/wp-content/uploads/2024/10/Screenshot_20240929_210103.jpg
END:VEVENT
BEGIN:VEVENT
DTSTART;TZID=America/New_York:20241122T160000
DTEND;TZID=America/New_York:20241122T180000
DTSTAMP:20260424T120825
CREATED:20241003T172934Z
LAST-MODIFIED:20241003T172934Z
UID:1695-1732291200-1732298400@www.heartofsurfing.org
SUMMARY:Roller Skating with Heart of Surfing
DESCRIPTION:SENSORY FRIENDLY ROLLER SKATING\nYoung’s Skating Center 4pm-6pm\n\nNov 22\n\n\n \n\n\n\nNo pre-registration required. Free for families with autism and other developmental disabilities.
URL:https://www.heartofsurfing.org/events/roller-skating-with-heart-of-surfing-2/
LOCATION:Youngs Skating Center\, 763 Park Road \, Mays Landing \, NJ\, 08330
ATTACH;FMTTYPE=image/jpeg:https://www.heartofsurfing.org/wp-content/uploads/2021/02/IMG_20210227_210705_749.jpg
END:VEVENT
BEGIN:VEVENT
DTSTART;TZID=America/New_York:20241117T120000
DTEND;TZID=America/New_York:20241117T150000
DTSTAMP:20260424T120825
CREATED:20241031T204618Z
LAST-MODIFIED:20241031T204618Z
UID:1721-1731844800-1731855600@www.heartofsurfing.org
SUMMARY:Heart of Surfing at Island Waterpark at Showboat in AC
DESCRIPTION:Island Waterpark at Showboat in Atlantic City\nNovember 17th\, 12p-3p \nONLY SWIMMERS NEED TICKETS- Free tickets apply to the swimmer with autism or other developmental disability\n*CARE GIVERS CAN ENTER THE WATERPARK AT A DISCOUNTED RATE AT THE DOOR* \nEnjoy a day at Island Waterpark with Heart of Surfing! Your swimmer will enjoy the water slides and a meal card for a slice of pizza or chicken nuggets. We look forward to splashing with you soon! \nCLICK HERE TO RESERVE YOUR TICKETS
URL:https://www.heartofsurfing.org/events/heart-of-surfing-at-island-waterpark-at-showboat-in-ac/
LOCATION:Island Waterpark\, 801 Boardwalk\, Atlantic City\, NM\, 08401\, United States
END:VEVENT
BEGIN:VEVENT
DTSTART;TZID=America/New_York:20241116T103000
DTEND;TZID=America/New_York:20241116T120000
DTSTAMP:20260424T120825
CREATED:20241003T172036Z
LAST-MODIFIED:20241003T172411Z
UID:1683-1731753000-1731758400@www.heartofsurfing.org
SUMMARY:Skateboarding with Heart of Surfing
DESCRIPTION:Adaptive Skateboarding\nBrigantine Skate Park 10:30am – 12pm\nNov 16\n\n\n \n\nNo pre-registration required. Free for families with autism and other developments disabilities.
URL:https://www.heartofsurfing.org/events/skateboarding-with-heart-of-surfing-4/
LOCATION:Brigantine Skate Park\, 4100 Bayshore Ave\, Brigantine\, NJ\, 08203
ATTACH;FMTTYPE=image/jpeg:https://www.heartofsurfing.org/wp-content/uploads/2024/10/Screenshot_20240929_210103.jpg
END:VEVENT
BEGIN:VEVENT
DTSTART;TZID=America/New_York:20241115T160000
DTEND;TZID=America/New_York:20241115T180000
DTSTAMP:20260424T120825
CREATED:20241003T172814Z
LAST-MODIFIED:20241003T172814Z
UID:1693-1731686400-1731693600@www.heartofsurfing.org
SUMMARY:Roller Skating with Heart of Surfing
DESCRIPTION:SENSORY FRIENDLY ROLLER SKATING\nYoung’s Skating Center 4pm-6pm\n\nNov 15\n\n \n\n\n\nNo pre-registration required. Free for families with autism and other developmental disabilities.
URL:https://www.heartofsurfing.org/events/roller-skating-with-heart-of-surfing/
LOCATION:Youngs Skating Center\, 763 Park Road \, Mays Landing \, NJ\, 08330
ATTACH;FMTTYPE=image/jpeg:https://www.heartofsurfing.org/wp-content/uploads/2022/02/IMG_20210227_210705_749.jpg
END:VEVENT
BEGIN:VEVENT
DTSTART;TZID=America/New_York:20241026T103000
DTEND;TZID=America/New_York:20241026T120000
DTSTAMP:20260424T120825
CREATED:20241003T171838Z
LAST-MODIFIED:20241003T172407Z
UID:1681-1729938600-1729944000@www.heartofsurfing.org
SUMMARY:Skateboarding with Heart of Surfing
DESCRIPTION:Adaptive Skateboarding\nBrigantine Skate Park 10:30am – 12pm\nOct 26\n\n\n \n\nNo pre-registration required. Free for families with autism and other developments disabilities.
URL:https://www.heartofsurfing.org/events/skateboarding-with-heart-of-surfing-3/
LOCATION:Brigantine Skate Park\, 4100 Bayshore Ave\, Brigantine\, NJ\, 08203
ATTACH;FMTTYPE=image/jpeg:https://www.heartofsurfing.org/wp-content/uploads/2024/10/Screenshot_20240929_210103.jpg
END:VEVENT
BEGIN:VEVENT
DTSTART;TZID=America/New_York:20241024T180000
DTEND;TZID=America/New_York:20241024T190000
DTSTAMP:20260424T120825
CREATED:20241003T175912Z
LAST-MODIFIED:20241017T153751Z
UID:1715-1729792800-1729796400@www.heartofsurfing.org
SUMMARY:Paint Night with Heart of Surfing
DESCRIPTION:Oct 24th at 6pm\nHG Craft Workshops in Northfield \nEnjoy a night of painting at HG Studios! \nPlease limit your ticket purchases for 2 tickets per family.\n*ONLY THE PARTICIPANT WITH AUTISM OR OTHER DEVELOPMENTS DISABILITY NEEDS A TICKET*\n*PARENTS AND CARETAKERS DO NOT NEED A TICKET* \nCLICK HERE TO RESERVE YOUR TICKET \n 
URL:https://www.heartofsurfing.org/events/paint-night-with-heart-of-surfing/
LOCATION:HG Craft Workshops\, 950 Tilton Rd Suite 102\, Northfield\, NJ\, 08225\, United States
ATTACH;FMTTYPE=image/jpeg:https://www.heartofsurfing.org/wp-content/uploads/2024/10/unnamed.jpg
END:VEVENT
BEGIN:VEVENT
DTSTART;TZID=America/New_York:20241019T120000
DTEND;TZID=America/New_York:20241019T170000
DTSTAMP:20260424T120825
CREATED:20241003T170549Z
LAST-MODIFIED:20241003T170549Z
UID:1668-1729339200-1729357200@www.heartofsurfing.org
SUMMARY:Flemings Junk Yard Sensory Friendly Haunted Hayride
DESCRIPTION:October 19th\nTime TBD\nFlemings Junkyard in EHT \nSENSORY-FRIENDLY HAUNTED HAYRIDE- More information to come
URL:https://www.heartofsurfing.org/events/flemings-junk-yard-sensory-friendly-haunted-hayride/
END:VEVENT
BEGIN:VEVENT
DTSTART;TZID=America/New_York:20241019T103000
DTEND;TZID=America/New_York:20241019T120000
DTSTAMP:20260424T120825
CREATED:20241003T171657Z
LAST-MODIFIED:20241003T172400Z
UID:1678-1729333800-1729339200@www.heartofsurfing.org
SUMMARY:Skateboarding with Heart of Surfing
DESCRIPTION:Adaptive Skateboarding\nBrigantine Skate Park 10:30am – 12pm\nOct 19\n\n \n\nNo pre-registration required. Free for families with autism and other developments disabilities.
URL:https://www.heartofsurfing.org/events/skateboarding-with-heart-of-surfing-2/
LOCATION:Brigantine Skate Park\, 4100 Bayshore Ave\, Brigantine\, NJ\, 08203
ATTACH;FMTTYPE=image/jpeg:https://www.heartofsurfing.org/wp-content/uploads/2024/10/Screenshot_20240929_210103.jpg
END:VEVENT
BEGIN:VEVENT
DTSTART;TZID=America/New_York:20241012T103000
DTEND;TZID=America/New_York:20241012T120000
DTSTAMP:20260424T120825
CREATED:20241003T171521Z
LAST-MODIFIED:20241003T172350Z
UID:1676-1728729000-1728734400@www.heartofsurfing.org
SUMMARY:Skateboarding with Heart of Surfing
DESCRIPTION:Adaptive Skateboarding\nBrigantine Skate Park 10:30am – 12pm\nOct 12\n\n \n\nNo pre-registration required. Free for families with autism and other developments disabilities.
URL:https://www.heartofsurfing.org/events/skateboarding-with-heart-of-surfing/
LOCATION:Brigantine Skate Park\, 4100 Bayshore Ave\, Brigantine\, NJ\, 08203
ATTACH;FMTTYPE=image/jpeg:https://www.heartofsurfing.org/wp-content/uploads/2024/10/Screenshot_20240929_210103.jpg
END:VEVENT
END:VCALENDAR