BEGIN:VCALENDAR
VERSION:2.0
PRODID:-//Heart of Surfing - ECPv6.15.20//NONSGML v1.0//EN
CALSCALE:GREGORIAN
METHOD:PUBLISH
X-ORIGINAL-URL:https://www.heartofsurfing.org
X-WR-CALDESC:Events for Heart of Surfing
REFRESH-INTERVAL;VALUE=DURATION:PT1H
X-Robots-Tag:noindex
X-PUBLISHED-TTL:PT1H
BEGIN:VTIMEZONE
TZID:America/New_York
BEGIN:DAYLIGHT
TZOFFSETFROM:-0500
TZOFFSETTO:-0400
TZNAME:EDT
DTSTART:20250309T070000
END:DAYLIGHT
BEGIN:STANDARD
TZOFFSETFROM:-0400
TZOFFSETTO:-0500
TZNAME:EST
DTSTART:20251102T060000
END:STANDARD
BEGIN:DAYLIGHT
TZOFFSETFROM:-0500
TZOFFSETTO:-0400
TZNAME:EDT
DTSTART:20260308T070000
END:DAYLIGHT
BEGIN:STANDARD
TZOFFSETFROM:-0400
TZOFFSETTO:-0500
TZNAME:EST
DTSTART:20261101T060000
END:STANDARD
BEGIN:DAYLIGHT
TZOFFSETFROM:-0500
TZOFFSETTO:-0400
TZNAME:EDT
DTSTART:20270314T070000
END:DAYLIGHT
BEGIN:STANDARD
TZOFFSETFROM:-0400
TZOFFSETTO:-0500
TZNAME:EST
DTSTART:20271107T060000
END:STANDARD
END:VTIMEZONE
BEGIN:VEVENT
DTSTART;TZID=America/New_York:20260426T150000
DTEND;TZID=America/New_York:20260426T180000
DTSTAMP:20260423T151538
CREATED:20260311T183139Z
LAST-MODIFIED:20260311T190223Z
UID:3842-1777215600-1777226400@www.heartofsurfing.org
SUMMARY:Heart of Surfing Fundraiser Social at TWIST
DESCRIPTION:April 26\, 3pm-6pm\nFundraiser Social at TWIST in Linwood\n \n\nEnjoy coffee\, ice cream\, and raffle prizes while supporting Heart of Surfing. Proceeds benefit our programs. All are welcome!\n\nWe’re dedicated to providing safe\, inclusive spaces for families with autism and related developmental disabilities. Thank you for being part of our community!
URL:https://www.heartofsurfing.org/events/heart-of-surfing-fundraiser-social-at-twist/
LOCATION:TWIST\, 1413 New Rd\, Linwood\, NJ\, United States
ATTACH;FMTTYPE=image/png:https://www.heartofsurfing.org/wp-content/uploads/2026/03/Fundraiser-Social-at-1.png
END:VEVENT
BEGIN:VEVENT
DTSTART;TZID=America/New_York:20260501T173000
DTEND;TZID=America/New_York:20260501T203000
DTSTAMP:20260423T151538
CREATED:20260331T165400Z
LAST-MODIFIED:20260331T165400Z
UID:3868-1777656600-1777667400@www.heartofsurfing.org
SUMMARY:First Fridays with Stardust and Heart of Surfing Dance Party
DESCRIPTION:Stardust Ballroom in Bellmawr\n5:30pm-8:30pm \nJoin Heart of Surfing and Stardust for a special needs dance party celebration! \nNo preregistration. All are welcome!
URL:https://www.heartofsurfing.org/events/first-fridays-with-stardust-and-heart-of-surfing-dance-party/
LOCATION:Stardust Dance Studio\, 363 West Browning Rd\, Bellmawr\, 08031\, United States
ATTACH;FMTTYPE=image/jpeg:https://www.heartofsurfing.org/wp-content/uploads/2026/03/bed00a0cae95323618cf9ee66f2f0be4-1.jpeg
END:VEVENT
BEGIN:VEVENT
DTSTART;TZID=America/New_York:20260502T103000
DTEND;TZID=America/New_York:20260502T120000
DTSTAMP:20260423T151538
CREATED:20260308T024055Z
LAST-MODIFIED:20260308T024055Z
UID:3824-1777717800-1777723200@www.heartofsurfing.org
SUMMARY:Heart of Surfing- Skateboard Day
DESCRIPTION:May 2\, 10:30am-12n\nBrigantine Skatepark \nJoin Heart of Surfing for a day of skateboarding! Free for families with autism and other developmental disabilities. \n 
URL:https://www.heartofsurfing.org/events/heart-of-surfing-skateboard-day-4/
LOCATION:Brigantine Skate Park\, 4100 Bayshore Ave\, Brigantine\, NJ\, 08203
CATEGORIES:Skateboarding
ATTACH;FMTTYPE=image/png:https://www.heartofsurfing.org/wp-content/uploads/2025/04/chrome_Cn9ufUgtLw.png
END:VEVENT
BEGIN:VEVENT
DTSTART;TZID=America/New_York:20260516T103000
DTEND;TZID=America/New_York:20260516T120000
DTSTAMP:20260423T151538
CREATED:20260308T024212Z
LAST-MODIFIED:20260308T024230Z
UID:3827-1778927400-1778932800@www.heartofsurfing.org
SUMMARY:Heart of Surfing- Skateboarding Day
DESCRIPTION:May 16\, 10:30am-12n\nBrigantine Skatepark \nJoin Heart of Surfing for a day of skateboarding! Free for families with autism and other developmental disabilities. \n 
URL:https://www.heartofsurfing.org/events/heart-of-surfing-skateboarding-day-18/
LOCATION:Brigantine Skate Park\, 4100 Bayshore Ave\, Brigantine\, NJ\, 08203
CATEGORIES:Skateboarding
ATTACH;FMTTYPE=image/png:https://www.heartofsurfing.org/wp-content/uploads/2025/04/chrome_Cn9ufUgtLw.png
END:VEVENT
BEGIN:VEVENT
DTSTART;TZID=America/New_York:20260530T103000
DTEND;TZID=America/New_York:20260530T120000
DTSTAMP:20260423T151538
CREATED:20260308T024328Z
LAST-MODIFIED:20260308T024328Z
UID:3831-1780137000-1780142400@www.heartofsurfing.org
SUMMARY:Heart of Surfing- Skateboard Day
DESCRIPTION:May 30\, 10:30am-12n\nBrigantine Skatepark \nJoin Heart of Surfing for a day of skateboarding! Free for families with autism and other developmental disabilities. \n 
URL:https://www.heartofsurfing.org/events/heart-of-surfing-skateboard-day-5/
LOCATION:Brigantine Skate Park\, 4100 Bayshore Ave\, Brigantine\, NJ\, 08203
CATEGORIES:Skateboarding
ATTACH;FMTTYPE=image/png:https://www.heartofsurfing.org/wp-content/uploads/2025/04/chrome_Cn9ufUgtLw.png
END:VEVENT
BEGIN:VEVENT
DTSTART;TZID=America/New_York:20260605T173000
DTEND;TZID=America/New_York:20260605T203000
DTSTAMP:20260423T151538
CREATED:20260331T165516Z
LAST-MODIFIED:20260331T165516Z
UID:3870-1780680600-1780691400@www.heartofsurfing.org
SUMMARY:First Fridays with Stardust and Heart of Surfing Dance Party
DESCRIPTION:Stardust Ballroom in Bellmawr\n5:30pm-8:30pm \nJoin Heart of Surfing and Stardust for a special needs dance party celebration! \nNo preregistration. All are welcome!
URL:https://www.heartofsurfing.org/events/first-fridays-with-stardust-and-heart-of-surfing-dance-party-2/
LOCATION:Stardust Dance Studio\, 363 West Browning Rd\, Bellmawr\, 08031\, United States
ATTACH;FMTTYPE=image/jpeg:https://www.heartofsurfing.org/wp-content/uploads/2026/03/bed00a0cae95323618cf9ee66f2f0be4-1.jpeg
END:VEVENT
END:VCALENDAR