BEGIN:VCALENDAR
VERSION:2.0
PRODID:-//Heart of Surfing - ECPv6.15.20//NONSGML v1.0//EN
CALSCALE:GREGORIAN
METHOD:PUBLISH
X-WR-CALNAME:Heart of Surfing
X-ORIGINAL-URL:https://www.heartofsurfing.org
X-WR-CALDESC:Events for Heart of Surfing
REFRESH-INTERVAL;VALUE=DURATION:PT1H
X-Robots-Tag:noindex
X-PUBLISHED-TTL:PT1H
BEGIN:VTIMEZONE
TZID:America/New_York
BEGIN:DAYLIGHT
TZOFFSETFROM:-0500
TZOFFSETTO:-0400
TZNAME:EDT
DTSTART:20250309T070000
END:DAYLIGHT
BEGIN:STANDARD
TZOFFSETFROM:-0400
TZOFFSETTO:-0500
TZNAME:EST
DTSTART:20251102T060000
END:STANDARD
BEGIN:DAYLIGHT
TZOFFSETFROM:-0500
TZOFFSETTO:-0400
TZNAME:EDT
DTSTART:20260308T070000
END:DAYLIGHT
BEGIN:STANDARD
TZOFFSETFROM:-0400
TZOFFSETTO:-0500
TZNAME:EST
DTSTART:20261101T060000
END:STANDARD
BEGIN:DAYLIGHT
TZOFFSETFROM:-0500
TZOFFSETTO:-0400
TZNAME:EDT
DTSTART:20270314T070000
END:DAYLIGHT
BEGIN:STANDARD
TZOFFSETFROM:-0400
TZOFFSETTO:-0500
TZNAME:EST
DTSTART:20271107T060000
END:STANDARD
END:VTIMEZONE
BEGIN:VEVENT
DTSTART;TZID=America/New_York:20260426T130000
DTEND;TZID=America/New_York:20260426T150000
DTSTAMP:20260423T123652
CREATED:20260311T181438Z
LAST-MODIFIED:20260419T131948Z
UID:3838-1777208400-1777215600@www.heartofsurfing.org
SUMMARY:Heart of Surfing at Playland's Castaway Cove
DESCRIPTION:**RESCHEDULED DATE: APRIL 26TH AT 1PM**\nSunday\, April 19\, 1pm-3pm\nPlayland Castaway Cove\, Ocean City NJ\n\nJoin Heart of Surfing at Playland’s Castaway with a free wristband day! Enjoy all the fun rides!\n\n\nTickets are required to redeem a wristband. **Wristbands are only needed for the participant that will go on rides.** Free for families with autism and other developmental disabilities.\n\nCLICK HERE TO RESERVE YOUR TICKETS
URL:https://www.heartofsurfing.org/events/heart-of-surfing-at-playlands-castaway-cove-3/
LOCATION:Playland’s Castaway Cove\, 1020 Boardwalk\, Ocean City\, NJ\, 08226\, United States
ATTACH;FMTTYPE=image/jpeg:https://www.heartofsurfing.org/wp-content/uploads/2021/04/jamieatcastaway.jpg
END:VEVENT
END:VCALENDAR